BEGIN:VCALENDAR
VERSION:2.0
PRODID:-//wp-events-plugin.com//7.2.3.1//EN
TZID:Europe/Berlin
X-WR-TIMEZONE:Europe/Berlin
BEGIN:VEVENT
UID:143@theater-unikum.de
DTSTART;TZID=Europe/Berlin:20260530T200000
DTEND;TZID=Europe/Berlin:20260530T220000
DTSTAMP:20260317T082109Z
URL:https://www.theater-unikum.de/events/sage-schreibe/
SUMMARY:sage & schreibe
DESCRIPTION:Lesung\n\nDas Format „sage &amp\; schreibe“ ist ein Herz-Pr
 ojekt von Anja Seemann\, um Schreibenden in Oldenburg und umzu einen gemei
 nsamen Raum zu bieten. Viele tolle Texte versauern in Schubladen und einig
 e davon holen wir auf die Bühne – und das schon zum 9. Mal! In schöner
  Atmosphäre schaffen wir einen Raum ohne Hürden und Bewertungen – so k
 önnen Autor:innen ihre Worte aus dem stillen Kämmerlein befreien und hin
 aus in die Welt tragen.\n\nSei im Publikum dabei und lausche den lustigen\
 , ernsten\, dramatischen oder lyrischen Worten. Neben der Lesung gibt es a
 uch regelmäßig Schreibdates. Das klingt interessant für dich? Dann scha
 u gern bei Instagram (sageundschreibe.ol) oder hier vorbei: https://calend
 ly.com/anja_seemann
ATTACH;FMTTYPE=image/jpeg:https://www.theater-unikum.de/wp-content/uploads
 /2026/01/sageundschreibe_Programmheft_png.png
CATEGORIES:Lesung
LOCATION:Unikum Bühne 1\, Uhlhornsweg 49-55\, Oldenburg\, 26129\, Deutschl
 and
X-APPLE-STRUCTURED-LOCATION;VALUE=URI;X-ADDRESS=Uhlhornsweg 49-55\, Oldenbu
 rg\, 26129\, Deutschland;X-APPLE-RADIUS=100;X-TITLE=Unikum Bühne 1:geo:0,
 0
END:VEVENT
BEGIN:VTIMEZONE
TZID:Europe/Berlin
X-LIC-LOCATION:Europe/Berlin
BEGIN:DAYLIGHT
DTSTART:20260329T030000
TZOFFSETFROM:+0100
TZOFFSETTO:+0200
TZNAME:CEST
END:DAYLIGHT
END:VTIMEZONE
END:VCALENDAR