BEGIN:VCALENDAR
VERSION:2.0
PRODID:-//wp-events-plugin.com//7.2.3.1//EN
TZID:Europe/Berlin
X-WR-TIMEZONE:Europe/Berlin
BEGIN:VEVENT
UID:154@theater-unikum.de
DTSTART;TZID=Europe/Berlin:20260710T180000
DTEND;TZID=Europe/Berlin:20260710T200000
DTSTAMP:20260317T085903Z
URL:https://www.theater-unikum.de/events/out-all-night/
SUMMARY:OUT all Night
DESCRIPTION:Bei unserem jährlichen Sommerfest zeigen wir Theater\, Musik\,
  Comedy und vieles mehr im 20 Minutentakt auf beiden Bühnen des unikum. F
 reut euch auf Highlights aus den laufenden Produktionen\, Neues und Altbew
 ährtes. Dazwischen bieten wir euch leckere Snacks und kühle Getränke zu
  günstigen Preisen.
ATTACH;FMTTYPE=image/jpeg:https://www.theater-unikum.de/wp-content/uploads
 /2026/01/marcel-strauss-B9XYuLrR6Js-unsplash.jpg
CATEGORIES:Sommerfest
LOCATION:Unikum Bühne 1\, Uhlhornsweg 49-55\, Oldenburg\, 26129\, Deutschl
 and
X-APPLE-STRUCTURED-LOCATION;VALUE=URI;X-ADDRESS=Uhlhornsweg 49-55\, Oldenbu
 rg\, 26129\, Deutschland;X-APPLE-RADIUS=100;X-TITLE=Unikum Bühne 1:geo:0,
 0
END:VEVENT
BEGIN:VTIMEZONE
TZID:Europe/Berlin
X-LIC-LOCATION:Europe/Berlin
BEGIN:DAYLIGHT
DTSTART:20260329T030000
TZOFFSETFROM:+0100
TZOFFSETTO:+0200
TZNAME:CEST
END:DAYLIGHT
END:VTIMEZONE
END:VCALENDAR