BEGIN:VCALENDAR
VERSION:2.0
PRODID:-//wp-events-plugin.com//7.2.3.1//EN
TZID:Europe/Berlin
X-WR-TIMEZONE:Europe/Berlin
BEGIN:VEVENT
UID:172@theater-unikum.de
DTSTART;TZID=Europe/Berlin:20260626T200000
DTEND;TZID=Europe/Berlin:20260626T220000
DTSTAMP:20260317T085205Z
URL:https://www.theater-unikum.de/events/kompass-ueberbord/
SUMMARY:Kompass Überbord
DESCRIPTION:Ohne Kompass mit voller Kraft voraus!\n\nIn diesem Open-Air-Pir
 aten-Spektakel spinnt ein gemischtes Ensemble des Oldenburger Uni-Theaters
  für euch einen ganzen Abend wildes Seemannsgarn. Dabei seid ihr nicht nu
 r Zuschauende\, sondern aktive Matrosen. Wir improvisieren mit Hilfe eurer
  Inspirationen eine abendfüllende Geschichte im Haudegen Stil\, komplett 
 mit versteckten Schätzen\, uralten Ungeheuern und fiesen Intrigen. Ahoi 
 – diese Reise gibt es nur einmal!
ATTACH;FMTTYPE=image/jpeg:https://www.theater-unikum.de/wp-content/uploads
 /2026/02/Kompass-Ueberbord_Programmheft.jpg
LOCATION:Mensa Vorplatz\, Uhlhornsweg 49-55\, Oldenburg\, 26129\, Deutschla
 nd
X-APPLE-STRUCTURED-LOCATION;VALUE=URI;X-ADDRESS=Uhlhornsweg 49-55\, Oldenbu
 rg\, 26129\, Deutschland;X-APPLE-RADIUS=100;X-TITLE=Mensa Vorplatz:geo:0,0
END:VEVENT
BEGIN:VTIMEZONE
TZID:Europe/Berlin
X-LIC-LOCATION:Europe/Berlin
BEGIN:DAYLIGHT
DTSTART:20260329T030000
TZOFFSETFROM:+0100
TZOFFSETTO:+0200
TZNAME:CEST
END:DAYLIGHT
END:VTIMEZONE
END:VCALENDAR