BEGIN:VCALENDAR
VERSION:2.0
PRODID:-//wp-events-plugin.com//7.2.3.1//EN
TZID:Europe/Berlin
X-WR-TIMEZONE:Europe/Berlin
BEGIN:VEVENT
UID:179@theater-unikum.de
DTSTART;TZID=Europe/Berlin:20261023T200000
DTEND;TZID=Europe/Berlin:20261023T221500
DTSTAMP:20260330T095531Z
URL:https://www.theater-unikum.de/events/hinnerk-koehn-noir/
SUMMARY:HINNERK KÖHN - NOIR
DESCRIPTION:Tickets: www.reservix.de\n\nIch hab‘ alles durch: alberne Qua
 tsch-Storys\, politisches Kabarett\, tausend Jahre Poetry Slam\, Musik-Com
 edy\, Impro\, klassischer Stand Up. Und langsam weiß ich\, wer ich auf de
 r Bühne bin. Scheiß auf trauriger Clown-Image\, scheiß auf Underground 
 und Mainstream. Ich bin Hinnerk. Das ist mein viertes Programm\, NOIR. Mei
 n sonniges Gemüt trifft auf meinen furchtbar schwarzen Humor\, meine Alko
 holabstinenz trifft auf meine Sucht\, ich mache einmal in meiner Vergangen
 heit sauber und hole alles aus meinem Leben raus\, worüber man sich lusti
 g machen kann.\n\nWenn einer in den Abgrund springt\, springst du dann hin
 terher? Wahrscheinlich schon. Denn wenn ich etwas gelernt habe auf der Bü
 hne\, dann das man über Trauriges lachen sollte.\n\nDas versuche ich dann
  live auf der Bühne. Zusammen mit euch. Mit ein bisschen Resignation\, vi
 el Zynismus und einem weinenden und einem lachenden Auge. Am Ende läuft L
 eonard Cohen und wir alle hatten einen guten Abend\, der euch ein wenig En
 ergie gibt\, all die ganze Scheiße durchzuhalten und ich bin einfach froh
 \, dass es euch gibt. Vielleicht ist es im Abgrund ja viel geiler als hier
  oben.
ATTACH;FMTTYPE=image/jpeg:https://www.theater-unikum.de/wp-content/uploads
 /2026/03/Hinnerk-Koehn-Daniel-Dittus_web.jpeg
CATEGORIES:Comedy
LOCATION:Unikum Bühne 1\, Uhlhornsweg 49-55\, Oldenburg\, 26129\, Deutschl
 and
X-APPLE-STRUCTURED-LOCATION;VALUE=URI;X-ADDRESS=Uhlhornsweg 49-55\, Oldenbu
 rg\, 26129\, Deutschland;X-APPLE-RADIUS=100;X-TITLE=Unikum Bühne 1:geo:0,
 0
END:VEVENT
BEGIN:VTIMEZONE
TZID:Europe/Berlin
X-LIC-LOCATION:Europe/Berlin
BEGIN:DAYLIGHT
DTSTART:20260329T030000
TZOFFSETFROM:+0100
TZOFFSETTO:+0200
TZNAME:CEST
END:DAYLIGHT
END:VTIMEZONE
END:VCALENDAR