BEGIN:VCALENDAR
VERSION:2.0
PRODID:-//wp-events-plugin.com//7.2.3.1//EN
TZID:Europe/Berlin
X-WR-TIMEZONE:Europe/Berlin
BEGIN:VEVENT
UID:144@theater-unikum.de
DTSTART;TZID=Europe/Berlin:20260620T200000
DTEND;TZID=Europe/Berlin:20260620T220000
DTSTAMP:20260317T084829Z
URL:https://www.theater-unikum.de/events/heartbreakers/
SUMMARY:Heartbreakers
DESCRIPTION:Komödie\n\n„Jede Minute wird ein Dummkopf geboren!” - wenn
  es nach armen und Zoey geht\, ist es auch jedes Mal ein Mann. Ihr Erfolg 
 als Trickbetrügerinnen untermauert diese These: 5-Sterne-Menüs\, Luxusho
 tels für lau\, ein prall gefülltes Bankkonto – alles kein Problem für
  die beiden Femme Fatales in einer von Männern beherrschten Welt. Nun wol
 len sie ganz groß abkassieren\; ihr Ziel: ein Milliardär auf der Insel S
 ylt. Doch dieser Betrug wird ihre Fähigkeiten\, Nerven und ihr Vertrauen 
 untereinander auf eine ungeahnte Probe stellen.\n\nEine spritzig-freche So
 mmerkomödie\, in der sowohl mit Männer- als auch Frauenklischees abgerec
 hnet wird – und sicher kein Auge trocken bleibt.
ATTACH;FMTTYPE=image/jpeg:https://www.theater-unikum.de/wp-content/uploads
 /2026/01/Heartbreakers_Bild-Flyer-u-Programmheft_plain-1-pdf.jpg
CATEGORIES:Komödie
LOCATION:Unikum Bühne 2\, Uhlhornsweg 49-55\, Oldenburg\, 26129\, Deutschl
 and
X-APPLE-STRUCTURED-LOCATION;VALUE=URI;X-ADDRESS=Uhlhornsweg 49-55\, Oldenbu
 rg\, 26129\, Deutschland;X-APPLE-RADIUS=100;X-TITLE=Unikum Bühne 2:geo:0,
 0
END:VEVENT
BEGIN:VTIMEZONE
TZID:Europe/Berlin
X-LIC-LOCATION:Europe/Berlin
BEGIN:DAYLIGHT
DTSTART:20260329T030000
TZOFFSETFROM:+0100
TZOFFSETTO:+0200
TZNAME:CEST
END:DAYLIGHT
END:VTIMEZONE
END:VCALENDAR