BEGIN:VCALENDAR
VERSION:2.0
PRODID:-//wp-events-plugin.com//7.2.3.1//EN
TZID:Europe/Berlin
X-WR-TIMEZONE:Europe/Berlin
BEGIN:VEVENT
UID:165@theater-unikum.de
DTSTART;TZID=Europe/Berlin:20260602T200000
DTEND;TZID=Europe/Berlin:20260602T220000
DTSTAMP:20260317T082343Z
URL:https://www.theater-unikum.de/events/farfalla-3/
SUMMARY:Farfalla
DESCRIPTION:Schauspiel\n\nEine Überraschung. Ein Auftrag. Ein Traum vom Fl
 iegen. Und eine Wohnung\, in der Pläne geschmiedet\, Lügen erzählt und 
 Beziehungen auf die Probe gestellt werden.\n\nIn dieser wunderschön kurzl
 ebigen Komödie wird der Stoff des Lebens von zwei Seiten betrachtet\, zu 
 Notlügen neu zusammengewoben und mit dem Chaos des Lebens neu gefärbt. W
 erft einen Blick in die Wohnung und seht\, welche Hürden dem Traum vom Fl
 iegen wie ein Schmetterling im Weg stehen.
ATTACH;FMTTYPE=image/jpeg:https://www.theater-unikum.de/wp-content/uploads
 /2026/02/Farfalla_Programmheft.jpg
CATEGORIES:Schauspiel
LOCATION:Unikum Bühne 1\, Uhlhornsweg 49-55\, Oldenburg\, 26129\, Deutschl
 and
X-APPLE-STRUCTURED-LOCATION;VALUE=URI;X-ADDRESS=Uhlhornsweg 49-55\, Oldenbu
 rg\, 26129\, Deutschland;X-APPLE-RADIUS=100;X-TITLE=Unikum Bühne 1:geo:0,
 0
END:VEVENT
BEGIN:VTIMEZONE
TZID:Europe/Berlin
X-LIC-LOCATION:Europe/Berlin
BEGIN:DAYLIGHT
DTSTART:20260329T030000
TZOFFSETFROM:+0100
TZOFFSETTO:+0200
TZNAME:CEST
END:DAYLIGHT
END:VTIMEZONE
END:VCALENDAR