BEGIN:VCALENDAR
VERSION:2.0
PRODID:-//wp-events-plugin.com//7.2.3.1//EN
TZID:Europe/Berlin
X-WR-TIMEZONE:Europe/Berlin
BEGIN:VEVENT
UID:152@theater-unikum.de
DTSTART;TZID=Europe/Berlin:20260601T150000
DTEND;TZID=Europe/Berlin:20260601T160000
DTSTAMP:20260210T164027Z
URL:https://www.theater-unikum.de/events/die-grosse-nein-tonne/
SUMMARY:Die große Nein-Tonne
DESCRIPTION:Die beiden Aufführungen am Weltkindertag nutzen die Kraft des 
 Theaters\, um Kinder zu stärken\, Erwachsene zu sensibilisieren und junge
  Erwachsene zu informieren. Ziel ist Prävention durch Wissen\, Sprache un
 d Körperbewusstsein – altersgerecht\, respektvoll und empowernd.\n\nBei
 de Stücke sind pädagogisch erprobt und eignen sich hervorragend zur Vor-
  und Nachbereitung im Unterricht\, in der Familie und in der Ausbildung.\n
 \nProgrammübersicht:\n\n15 Uhr – Die große Nein-Tonne\n\n„Die große
  Nein-Tonne“ für Kinder (ca. 5–10 Jahre)\, Familien und Schulklassen\
 n\nEin Stück\, das Kindern Mut macht\, auf ihr Bauchgefühl zu hören –
  und Nein zu sagen.\n\nManchmal zeigen Kinder ihre Nein-Gefühle\, aber Er
 wachsene gehen über sie hinweg. Weil sie gestresst sind. Oder weil sie au
 s ihrer Verantwortung heraus denken\, dass sie es besser wissen. Dabei sin
 d die Nein-Gefühle der Kinder wirklich wichtige Signale\, die Aufmerksamk
 eit brauchen. Mit dem Theaterprogramm Die große Nein-Tonne nehmen wir die
  Zu- und Abneigungen der Kinder ernst. Wir ermutigen sie\, ihrer Selbstwah
 rnehmung zu vertrauen und ihre Nein-Gefühle zu verteidigen. Zu wissen\, d
 ass sie ein Recht auf körperliche Selbstbestimmung haben\, ist für Kinde
 r ein wichtiger Selbstschutz.\n\n&nbsp\;\n\n&nbsp\;
ATTACH;FMTTYPE=image/jpeg:https://www.theater-unikum.de/wp-content/uploads
 /2026/01/TPW_Buchenau-150.jpg
CATEGORIES:Theaterpädagogische Werkstatt
LOCATION:Unikum Bühne 1\, Uhlhornsweg 49-55\, Oldenburg\, 26129\, Deutschl
 and
X-APPLE-STRUCTURED-LOCATION;VALUE=URI;X-ADDRESS=Uhlhornsweg 49-55\, Oldenbu
 rg\, 26129\, Deutschland;X-APPLE-RADIUS=100;X-TITLE=Unikum Bühne 1:geo:0,
 0
END:VEVENT
BEGIN:VTIMEZONE
TZID:Europe/Berlin
X-LIC-LOCATION:Europe/Berlin
BEGIN:DAYLIGHT
DTSTART:20260329T030000
TZOFFSETFROM:+0100
TZOFFSETTO:+0200
TZNAME:CEST
END:DAYLIGHT
END:VTIMEZONE
END:VCALENDAR